BEGIN:VCALENDAR
VERSION:2.0
PRODID:-//KT Pacer - ECPv5.12.2//NONSGML v1.0//EN
CALSCALE:GREGORIAN
METHOD:PUBLISH
X-WR-CALNAME:KT Pacer
X-ORIGINAL-URL:https://ktpacer.com
X-WR-CALDESC:Events for KT Pacer
REFRESH-INTERVAL;VALUE=DURATION:PT1H
X-Robots-Tag:noindex
X-PUBLISHED-TTL:PT1H
BEGIN:VTIMEZONE
TZID:America/Kentucky/Louisville
BEGIN:DAYLIGHT
TZOFFSETFROM:-0500
TZOFFSETTO:-0400
TZNAME:EDT
DTSTART:20260308T070000
END:DAYLIGHT
BEGIN:STANDARD
TZOFFSETFROM:-0400
TZOFFSETTO:-0500
TZNAME:EST
DTSTART:20261101T060000
END:STANDARD
END:VTIMEZONE
BEGIN:VEVENT
DTSTART;VALUE=DATE:20260127
DTEND;VALUE=DATE:20260130
DTSTAMP:20260422T230509
CREATED:20200519T191445Z
LAST-MODIFIED:20260106T172805Z
UID:1107-1769472000-1769731199@ktpacer.com
SUMMARY:International Production & Processing Expo – IPPE
DESCRIPTION:January 27-29\, 2026 IPPE (International Processing and Production Expo) \nGeorgia World Congress Center\, Atlanta GA \nHall A Booth# A2233 \nhttps://www.ippexpo.org/
URL:https://ktpacer.com/event/international-production-processing-expo-ippe-2021/
LOCATION:Georgia World Congress Center\, Atlanta\, GA\, United States
ATTACH;FMTTYPE=image/png:https://ktpacer.com/app/uploads/2020/05/IPPE-logo.png
END:VEVENT
END:VCALENDAR